BEGIN:VCALENDAR
VERSION:2.0
PRODID:-//FNTI - First National Title Insurance Company - ECPv6.15.18//NONSGML v1.0//EN
CALSCALE:GREGORIAN
METHOD:PUBLISH
X-ORIGINAL-URL:https://fnti.com
X-WR-CALDESC:Events for FNTI - First National Title Insurance Company
REFRESH-INTERVAL;VALUE=DURATION:PT1H
X-Robots-Tag:noindex
X-PUBLISHED-TTL:PT1H
BEGIN:VTIMEZONE
TZID:America/Chicago
BEGIN:DAYLIGHT
TZOFFSETFROM:-0600
TZOFFSETTO:-0500
TZNAME:CDT
DTSTART:20240310T080000
END:DAYLIGHT
BEGIN:STANDARD
TZOFFSETFROM:-0500
TZOFFSETTO:-0600
TZNAME:CST
DTSTART:20241103T070000
END:STANDARD
BEGIN:DAYLIGHT
TZOFFSETFROM:-0600
TZOFFSETTO:-0500
TZNAME:CDT
DTSTART:20250309T080000
END:DAYLIGHT
BEGIN:STANDARD
TZOFFSETFROM:-0500
TZOFFSETTO:-0600
TZNAME:CST
DTSTART:20251102T070000
END:STANDARD
BEGIN:DAYLIGHT
TZOFFSETFROM:-0600
TZOFFSETTO:-0500
TZNAME:CDT
DTSTART:20260308T080000
END:DAYLIGHT
BEGIN:STANDARD
TZOFFSETFROM:-0500
TZOFFSETTO:-0600
TZNAME:CST
DTSTART:20261101T070000
END:STANDARD
END:VTIMEZONE
BEGIN:VEVENT
DTSTART;TZID=America/Chicago:20250708T093000
DTEND;TZID=America/Chicago:20250708T103000
DTSTAMP:20260420T094602
CREATED:20250506T200721Z
LAST-MODIFIED:20250506T201615Z
UID:10000025-1751967000-1751970600@fnti.com
SUMMARY:Involuntary Liens-What Not to Do #124186
DESCRIPTION:
URL:https://fnti.com/event/involuntary-liens-what-not-to-do-124186/
CATEGORIES:Escrow Courses
ATTACH;FMTTYPE=image/png:https://fnti.com/wp-content/uploads/2025/04/involuntaryliens.png
END:VEVENT
BEGIN:VEVENT
DTSTART;TZID=America/Chicago:20250709T100000
DTEND;TZID=America/Chicago:20250709T110000
DTSTAMP:20260420T094602
CREATED:20250425T212656Z
LAST-MODIFIED:20250506T200851Z
UID:10000007-1752055200-1752058800@fnti.com
SUMMARY:2025 Agent Security Update
DESCRIPTION:
URL:https://fnti.com/event/2025-agent-security-update/
CATEGORIES:Realtor Courses
ATTACH;FMTTYPE=image/png:https://fnti.com/wp-content/uploads/2025/04/agentupdate.png
END:VEVENT
BEGIN:VEVENT
DTSTART;TZID=America/Chicago:20250710T103000
DTEND;TZID=America/Chicago:20250710T113000
DTSTAMP:20260420T094602
CREATED:20250611T185622Z
LAST-MODIFIED:20250611T185624Z
UID:10000038-1752143400-1752147000@fnti.com
SUMMARY:Build\, Maintain\, and Protect Your Database
DESCRIPTION:
URL:https://fnti.com/event/build-maintain-and-protect-your-database/
CATEGORIES:Sales & Marketing
ATTACH;FMTTYPE=image/png:https://fnti.com/wp-content/uploads/2025/06/BLund-MonthlySeries-July.png
END:VEVENT
END:VCALENDAR